BEGIN:VCALENDAR
VERSION:2.0
PRODID:-// - ECPv6.15.20//NONSGML v1.0//EN
CALSCALE:GREGORIAN
METHOD:PUBLISH
X-ORIGINAL-URL:https://creatifng.com
X-WR-CALDESC:Events for 
REFRESH-INTERVAL;VALUE=DURATION:PT1H
X-Robots-Tag:noindex
X-PUBLISHED-TTL:PT1H
BEGIN:VTIMEZONE
TZID:Africa/Lagos
BEGIN:STANDARD
TZOFFSETFROM:+0100
TZOFFSETTO:+0100
TZNAME:WAT
DTSTART:20250101T000000
END:STANDARD
END:VTIMEZONE
BEGIN:VEVENT
DTSTART;TZID=Africa/Lagos:20260213T200000
DTEND;TZID=Africa/Lagos:20260213T200000
DTSTAMP:20260425T224911
CREATED:20260210T022841Z
LAST-MODIFIED:20260213T022329Z
UID:159-1771012800-1771012800@creatifng.com
SUMMARY:Comedy Night
DESCRIPTION:
URL:https://creatifng.com/event/comedy-night/
LOCATION:Django Lounge\, 62b\, Adetokunbo Ademola Street\, VI\, Lagos\, 100282\, Nigeria
ATTACH;FMTTYPE=image/webp:https://creatifng.com/wp-content/uploads/2026/02/vibrant-neon-sign-proclaims-comedy-night-against-rustic-wooden-wall-smiling-theatrical-mask-glows-complementary-blue-hues-409703606.webp
ORGANIZER;CN="CREATIF":MAILTO:info@creatifng.com
END:VEVENT
END:VCALENDAR